Package: xmapbridge Version: 1.65.0 Command: /home/biocbuild/bbs-3.21-bioc/R/bin/R CMD build --keep-empty-dirs --no-resave-data xmapbridge StartedAt: 2025-02-09 19:46:54 -0500 (Sun, 09 Feb 2025) EndedAt: 2025-02-09 19:47:13 -0500 (Sun, 09 Feb 2025) EllapsedTime: 19.0 seconds RetCode: 0 Status: OK PackageFile: xmapbridge_1.65.0.tar.gz PackageFileSize: 3.019 MiB