Package: xmapbridge Version: 1.65.0 Command: /home/biocbuild/bbs-3.21-bioc/R/bin/R CMD check --install=check:xmapbridge.install-out.txt --library=/home/biocbuild/bbs-3.21-bioc/R/site-library --timings xmapbridge_1.65.0.tar.gz StartedAt: 2025-02-10 03:48:30 -0500 (Mon, 10 Feb 2025) EndedAt: 2025-02-10 03:49:09 -0500 (Mon, 10 Feb 2025) EllapsedTime: 39.0 seconds RetCode: 0 Status: OK CheckDir: xmapbridge.Rcheck Warnings: 0