Package: xmapbridge Version: 1.65.0 Command: E:\biocbuild\bbs-3.21-bioc\R\bin\R.exe CMD INSTALL xmapbridge StartedAt: 2025-02-09 15:22:06 -0500 (Sun, 09 Feb 2025) EndedAt: 2025-02-09 15:22:26 -0500 (Sun, 09 Feb 2025) EllapsedTime: 20.3 seconds RetCode: 0 Status: OK