Package: yarn Version: 1.33.0 Command: /Library/Frameworks/R.framework/Resources/bin/R CMD build --keep-empty-dirs --no-resave-data yarn StartedAt: 2025-02-12 17:56:31 -0500 (Wed, 12 Feb 2025) EndedAt: 2025-02-12 17:57:06 -0500 (Wed, 12 Feb 2025) EllapsedTime: 35.4 seconds RetCode: 0 Status: OK PackageFile: yarn_1.33.0.tar.gz PackageFileSize: 2.973 MiB