Package: yarn Version: 1.33.0 Command: /Library/Frameworks/R.framework/Resources/bin/R CMD INSTALL yarn StartedAt: 2025-02-09 15:27:20 -0500 (Sun, 09 Feb 2025) EndedAt: 2025-02-09 15:27:40 -0500 (Sun, 09 Feb 2025) EllapsedTime: 19.8 seconds RetCode: 0 Status: OK