Package: yarn Version: 1.33.0 Command: rm -rf yarn.buildbin-libdir && mkdir yarn.buildbin-libdir && /Users/biocbuild/BBS/utils/build-universal.sh yarn_1.33.0.tar.gz /Library/Frameworks/R.framework/Resources/bin/R yarn.buildbin-libdir StartedAt: 2025-02-13 01:04:55 -0500 (Thu, 13 Feb 2025) EndedAt: 2025-02-13 01:05:44 -0500 (Thu, 13 Feb 2025) EllapsedTime: 49.0 seconds RetCode: 0 Status: OK PackageFile: yarn_1.33.0.tgz PackageFileSize: 4.118 MiB