Package: yarn Version: 1.33.0 Command: /Library/Frameworks/R.framework/Resources/bin/R CMD INSTALL yarn StartedAt: 2025-02-09 15:44:14 -0500 (Sun, 09 Feb 2025) EndedAt: 2025-02-09 15:45:21 -0500 (Sun, 09 Feb 2025) EllapsedTime: 66.8 seconds RetCode: 0 Status: OK