Package: yarn Version: 1.33.0 Command: /home/biocbuild/bbs-3.21-bioc/R/bin/R CMD check --install=check:yarn.install-out.txt --library=/home/biocbuild/bbs-3.21-bioc/R/site-library --timings yarn_1.33.0.tar.gz StartedAt: 2025-02-10 03:50:10 -0500 (Mon, 10 Feb 2025) EndedAt: 2025-02-10 03:56:36 -0500 (Mon, 10 Feb 2025) EllapsedTime: 386.0 seconds RetCode: 0 Status: OK CheckDir: yarn.Rcheck Warnings: 0