Package: yarn Version: 1.33.0 Command: rm -rf yarn.buildbin-libdir && mkdir yarn.buildbin-libdir && E:\biocbuild\bbs-3.21-bioc\R\bin\R.exe CMD INSTALL --build --library=yarn.buildbin-libdir yarn_1.33.0.tar.gz StartedAt: 2025-02-10 08:58:23 -0500 (Mon, 10 Feb 2025) EndedAt: 2025-02-10 08:59:16 -0500 (Mon, 10 Feb 2025) EllapsedTime: 52.3 seconds RetCode: 0 Status: OK PackageFile: yarn_1.33.0.zip PackageFileSize: 4.119 MiB