Package: zFPKM Version: 1.29.0 Command: /Library/Frameworks/R.framework/Resources/bin/R CMD INSTALL zFPKM StartedAt: 2025-02-09 15:05:58 -0500 (Sun, 09 Feb 2025) EndedAt: 2025-02-09 15:06:07 -0500 (Sun, 09 Feb 2025) EllapsedTime: 9.6 seconds RetCode: 0 Status: OK