Package: zFPKM Version: 1.29.0 Command: rm -rf zFPKM.buildbin-libdir && mkdir zFPKM.buildbin-libdir && /Users/biocbuild/BBS/utils/build-universal.sh zFPKM_1.29.0.tar.gz /Library/Frameworks/R.framework/Resources/bin/R zFPKM.buildbin-libdir StartedAt: 2025-02-10 01:22:48 -0500 (Mon, 10 Feb 2025) EndedAt: 2025-02-10 01:23:18 -0500 (Mon, 10 Feb 2025) EllapsedTime: 30.5 seconds RetCode: 0 Status: OK PackageFile: zFPKM_1.29.0.tgz PackageFileSize: 222.7 KiB