Package: zFPKM Version: 1.29.0 Command: E:\biocbuild\bbs-3.21-bioc\R\bin\R.exe CMD check --no-multiarch --install=check:zFPKM.install-out.txt --library=E:\biocbuild\bbs-3.21-bioc\R\library --no-vignettes --timings zFPKM_1.29.0.tar.gz StartedAt: 2025-02-10 06:40:01 -0500 (Mon, 10 Feb 2025) EndedAt: 2025-02-10 06:42:47 -0500 (Mon, 10 Feb 2025) EllapsedTime: 166.2 seconds RetCode: 0 Status: OK CheckDir: zFPKM.Rcheck Warnings: 0