Package: zenith Version: 1.9.0 Command: /Library/Frameworks/R.framework/Resources/bin/R CMD build --keep-empty-dirs --no-resave-data zenith StartedAt: 2025-02-09 17:55:37 -0500 (Sun, 09 Feb 2025) EndedAt: 2025-02-09 17:56:09 -0500 (Sun, 09 Feb 2025) EllapsedTime: 32.4 seconds RetCode: 0 Status: OK PackageFile: zenith_1.9.0.tar.gz PackageFileSize: 4.091 MiB