Package: zenith Version: 1.9.0 Command: /home/biocbuild/R/R/bin/R CMD build --keep-empty-dirs --no-resave-data zenith StartedAt: 2025-01-28 03:14:41 -0000 (Tue, 28 Jan 2025) EndedAt: 2025-01-28 03:16:31 -0000 (Tue, 28 Jan 2025) EllapsedTime: 110.2 seconds RetCode: 0 Status: OK PackageFile: zenith_1.9.0.tar.gz PackageFileSize: 4.156 MiB