Package: zenith Version: 1.9.0 Command: /home/biocbuild/R/R/bin/R CMD check --install=check:zenith.install-out.txt --library=/home/biocbuild/R/R/site-library --no-vignettes --timings zenith_1.9.0.tar.gz StartedAt: 2025-01-27 14:00:24 -0000 (Mon, 27 Jan 2025) EndedAt: 2025-01-27 14:06:58 -0000 (Mon, 27 Jan 2025) EllapsedTime: 393.6 seconds RetCode: 0 Status: OK CheckDir: zenith.Rcheck Warnings: 0