Package: zenith Version: 1.9.0 Command: /home/biocbuild/R/R/bin/R CMD INSTALL zenith StartedAt: 2025-01-29 19:54:38 -0000 (Wed, 29 Jan 2025) EndedAt: 2025-01-29 19:55:40 -0000 (Wed, 29 Jan 2025) EllapsedTime: 62.3 seconds RetCode: 0 Status: OK