Package: zenith Version: 1.9.0 Command: rm -rf zenith.buildbin-libdir && mkdir zenith.buildbin-libdir && /Users/biocbuild/BBS/utils/build-universal.sh zenith_1.9.0.tar.gz /Library/Frameworks/R.framework/Resources/bin/R zenith.buildbin-libdir StartedAt: 2025-02-10 01:22:47 -0500 (Mon, 10 Feb 2025) EndedAt: 2025-02-10 01:23:29 -0500 (Mon, 10 Feb 2025) EllapsedTime: 42.8 seconds RetCode: 0 Status: OK PackageFile: zenith_1.9.0.tgz PackageFileSize: 746.5 KiB