Package: zenith Version: 1.9.0 Command: /home/biocbuild/bbs-3.21-bioc/R/bin/R CMD INSTALL zenith StartedAt: 2025-02-09 15:58:16 -0500 (Sun, 09 Feb 2025) EndedAt: 2025-02-09 15:59:02 -0500 (Sun, 09 Feb 2025) EllapsedTime: 45.7 seconds RetCode: 0 Status: OK