Package: zenith Version: 1.9.0 Command: rm -rf zenith.buildbin-libdir && mkdir zenith.buildbin-libdir && E:\biocbuild\bbs-3.21-bioc\R\bin\R.exe CMD INSTALL --build --library=zenith.buildbin-libdir zenith_1.9.0.tar.gz StartedAt: 2025-02-10 08:58:31 -0500 (Mon, 10 Feb 2025) EndedAt: 2025-02-10 08:59:17 -0500 (Mon, 10 Feb 2025) EllapsedTime: 45.7 seconds RetCode: 0 Status: OK PackageFile: zenith_1.9.0.zip PackageFileSize: 694.4 KiB