Package: zenith Version: 1.9.0 Command: E:\biocbuild\bbs-3.21-bioc\R\bin\R.exe CMD INSTALL zenith StartedAt: 2025-02-09 16:11:39 -0500 (Sun, 09 Feb 2025) EndedAt: 2025-02-09 16:12:32 -0500 (Sun, 09 Feb 2025) EllapsedTime: 52.6 seconds RetCode: 0 Status: OK