Package: zinbwave Version: 1.29.0 Command: /Library/Frameworks/R.framework/Resources/bin/R CMD build --keep-empty-dirs --no-resave-data zinbwave StartedAt: 2025-02-12 17:56:52 -0500 (Wed, 12 Feb 2025) EndedAt: 2025-02-12 17:57:40 -0500 (Wed, 12 Feb 2025) EllapsedTime: 47.5 seconds RetCode: 0 Status: OK PackageFile: zinbwave_1.29.0.tar.gz PackageFileSize: 585.2 KiB