Package: zinbwave Version: 1.29.0 Command: E:\biocbuild\bbs-3.21-bioc\R\bin\R.exe CMD INSTALL zinbwave StartedAt: 2025-02-12 16:18:23 -0500 (Wed, 12 Feb 2025) EndedAt: 2025-02-12 16:19:34 -0500 (Wed, 12 Feb 2025) EllapsedTime: 71.0 seconds RetCode: 0 Status: OK