Package: zitools Version: 1.1.0 Maintainer: Carlotta Meyring MaintainerEmail: carlotta.meyring at uniklinik-freiburg.de git_url: https://git.bioconductor.org/packages/zitools git_branch: devel git_last_commit: 9887f7d git_last_commit_date: 2024-10-29 11:31:47 -0500 (Tue, 29 Oct 2024)