Package: zitools Version: 1.1.0 Command: rm -rf zitools.buildbin-libdir && mkdir zitools.buildbin-libdir && /Users/biocbuild/BBS/utils/build-universal.sh zitools_1.1.0.tar.gz /Library/Frameworks/R.framework/Resources/bin/R zitools.buildbin-libdir StartedAt: 2025-02-05 22:40:06 -0500 (Wed, 05 Feb 2025) EndedAt: 2025-02-05 22:40:20 -0500 (Wed, 05 Feb 2025) EllapsedTime: 13.3 seconds RetCode: 0 Status: OK PackageFile: zitools_1.1.0.tgz PackageFileSize: 768.8 KiB