Package: zitools Version: 1.1.0 Command: /Library/Frameworks/R.framework/Resources/bin/R CMD build --keep-empty-dirs --no-resave-data zitools StartedAt: 2025-02-05 17:58:33 -0500 (Wed, 05 Feb 2025) EndedAt: 2025-02-05 17:59:17 -0500 (Wed, 05 Feb 2025) EllapsedTime: 44.3 seconds RetCode: 0 Status: OK PackageFile: zitools_1.1.0.tar.gz PackageFileSize: 241.9 KiB