Package: zitools Version: 1.1.0 Command: /Library/Frameworks/R.framework/Resources/bin/R CMD check --install=check:zitools.install-out.txt --library=/Library/Frameworks/R.framework/Resources/library --no-vignettes --timings zitools_1.1.0.tar.gz StartedAt: 2025-02-05 22:04:47 -0500 (Wed, 05 Feb 2025) EndedAt: 2025-02-05 22:07:08 -0500 (Wed, 05 Feb 2025) EllapsedTime: 140.5 seconds RetCode: 0 Status: WARNINGS CheckDir: zitools.Rcheck Warnings: 1