Package: zitools Version: 1.1.0 Command: /Library/Frameworks/R.framework/Resources/bin/R CMD INSTALL zitools StartedAt: 2025-02-05 15:22:35 -0500 (Wed, 05 Feb 2025) EndedAt: 2025-02-05 15:22:48 -0500 (Wed, 05 Feb 2025) EllapsedTime: 13.1 seconds RetCode: 0 Status: OK