Package: zitools Version: 1.1.0 Command: /home/biocbuild/R/R/bin/R CMD build --keep-empty-dirs --no-resave-data zitools StartedAt: 2025-01-28 03:16:06 -0000 (Tue, 28 Jan 2025) EndedAt: 2025-01-28 03:19:14 -0000 (Tue, 28 Jan 2025) EllapsedTime: 187.8 seconds RetCode: 0 Status: OK PackageFile: zitools_1.1.0.tar.gz PackageFileSize: 236.3 KiB