Package: zitools Version: 1.1.0 Command: /Library/Frameworks/R.framework/Resources/bin/R CMD check --install=check:zitools.install-out.txt --library=/Library/Frameworks/R.framework/Resources/library --no-vignettes --timings zitools_1.1.0.tar.gz StartedAt: 2025-02-05 00:11:04 -0500 (Wed, 05 Feb 2025) EndedAt: 2025-02-05 00:19:16 -0500 (Wed, 05 Feb 2025) EllapsedTime: 492.0 seconds RetCode: 0 Status: WARNINGS CheckDir: zitools.Rcheck Warnings: 1