Package: zitools Version: 1.1.0 Command: /Library/Frameworks/R.framework/Resources/bin/R CMD INSTALL zitools StartedAt: 2025-02-04 15:35:29 -0500 (Tue, 04 Feb 2025) EndedAt: 2025-02-04 15:36:14 -0500 (Tue, 04 Feb 2025) EllapsedTime: 45.0 seconds RetCode: 0 Status: OK