Package: zitools Version: 1.1.0 Command: /home/biocbuild/bbs-3.21-bioc/R/bin/R CMD build --keep-empty-dirs --no-resave-data zitools StartedAt: 2025-02-05 19:47:48 -0500 (Wed, 05 Feb 2025) EndedAt: 2025-02-05 19:49:25 -0500 (Wed, 05 Feb 2025) EllapsedTime: 96.6 seconds RetCode: 0 Status: OK PackageFile: zitools_1.1.0.tar.gz PackageFileSize: 242.6 KiB