Package: zitools Version: 1.1.0 Command: /home/biocbuild/bbs-3.21-bioc/R/bin/R CMD check --install=check:zitools.install-out.txt --library=/home/biocbuild/bbs-3.21-bioc/R/site-library --timings zitools_1.1.0.tar.gz StartedAt: 2025-02-06 03:52:23 -0500 (Thu, 06 Feb 2025) EndedAt: 2025-02-06 03:58:50 -0500 (Thu, 06 Feb 2025) EllapsedTime: 386.7 seconds RetCode: 0 Status: WARNINGS CheckDir: zitools.Rcheck Warnings: 1