Package: zitools Version: 1.1.0 Command: /home/biocbuild/bbs-3.21-bioc/R/bin/R CMD INSTALL zitools StartedAt: 2025-02-05 15:31:00 -0500 (Wed, 05 Feb 2025) EndedAt: 2025-02-05 15:31:35 -0500 (Wed, 05 Feb 2025) EllapsedTime: 34.3 seconds RetCode: 0 Status: OK