Package: zitools Version: 1.1.0 Command: rm -rf zitools.buildbin-libdir && mkdir zitools.buildbin-libdir && E:\biocbuild\bbs-3.21-bioc\R\bin\R.exe CMD INSTALL --build --library=zitools.buildbin-libdir zitools_1.1.0.tar.gz StartedAt: 2025-02-05 09:11:42 -0500 (Wed, 05 Feb 2025) EndedAt: 2025-02-05 09:12:40 -0500 (Wed, 05 Feb 2025) EllapsedTime: 57.8 seconds RetCode: 0 Status: OK PackageFile: zitools_1.1.0.zip PackageFileSize: 772.3 KiB