Package: zlibbioc Version: 1.53.0 Command: /Library/Frameworks/R.framework/Resources/bin/R CMD build --keep-empty-dirs --no-resave-data zlibbioc StartedAt: 2025-02-09 17:56:03 -0500 (Sun, 09 Feb 2025) EndedAt: 2025-02-09 17:56:07 -0500 (Sun, 09 Feb 2025) EllapsedTime: 4.0 seconds RetCode: 0 Status: OK PackageFile: zlibbioc_1.53.0.tar.gz PackageFileSize: 373.8 KiB