Package: zlibbioc Version: 1.53.0 Command: /Library/Frameworks/R.framework/Resources/bin/R CMD INSTALL zlibbioc StartedAt: 2025-02-09 15:00:56 -0500 (Sun, 09 Feb 2025) EndedAt: 2025-02-09 15:01:00 -0500 (Sun, 09 Feb 2025) EllapsedTime: 4.1 seconds RetCode: 0 Status: OK