Package: zlibbioc Version: 1.53.0 Command: rm -rf zlibbioc.buildbin-libdir && mkdir zlibbioc.buildbin-libdir && /Users/biocbuild/BBS/utils/build-universal.sh zlibbioc_1.53.0.tar.gz /Library/Frameworks/R.framework/Resources/bin/R zlibbioc.buildbin-libdir StartedAt: 2025-02-13 01:05:00 -0500 (Thu, 13 Feb 2025) EndedAt: 2025-02-13 01:05:08 -0500 (Thu, 13 Feb 2025) EllapsedTime: 8.5 seconds RetCode: 0 Status: OK PackageFile: zlibbioc_1.53.0.tgz PackageFileSize: 227.5 KiB