Package: zlibbioc Version: 1.53.0 Command: /Library/Frameworks/R.framework/Resources/bin/R CMD check --install=check:zlibbioc.install-out.txt --library=/Library/Frameworks/R.framework/Resources/library --no-vignettes --timings zlibbioc_1.53.0.tar.gz StartedAt: 2025-02-10 00:26:53 -0500 (Mon, 10 Feb 2025) EndedAt: 2025-02-10 00:27:18 -0500 (Mon, 10 Feb 2025) EllapsedTime: 25.3 seconds RetCode: 0 Status: OK CheckDir: zlibbioc.Rcheck Warnings: 0