Package: zlibbioc Version: 1.53.0 Command: /Library/Frameworks/R.framework/Resources/bin/R CMD INSTALL zlibbioc StartedAt: 2025-02-12 15:03:28 -0500 (Wed, 12 Feb 2025) EndedAt: 2025-02-12 15:03:42 -0500 (Wed, 12 Feb 2025) EllapsedTime: 14.7 seconds RetCode: 0 Status: OK