Package: zlibbioc Version: 1.53.0 Command: /home/biocbuild/bbs-3.21-bioc/R/bin/R CMD build --keep-empty-dirs --no-resave-data zlibbioc StartedAt: 2025-02-12 19:44:19 -0500 (Wed, 12 Feb 2025) EndedAt: 2025-02-12 19:44:24 -0500 (Wed, 12 Feb 2025) EllapsedTime: 5.0 seconds RetCode: 0 Status: OK PackageFile: zlibbioc_1.53.0.tar.gz PackageFileSize: 373.8 KiB