Package: zlibbioc Version: 1.53.0 Command: /home/biocbuild/bbs-3.21-bioc/R/bin/R CMD INSTALL zlibbioc StartedAt: 2025-02-09 15:11:31 -0500 (Sun, 09 Feb 2025) EndedAt: 2025-02-09 15:11:34 -0500 (Sun, 09 Feb 2025) EllapsedTime: 3.0 seconds RetCode: 0 Status: OK