Package: zlibbioc Version: 1.53.0 Command: rm -rf zlibbioc.buildbin-libdir && mkdir zlibbioc.buildbin-libdir && E:\biocbuild\bbs-3.21-bioc\R\bin\R.exe CMD INSTALL --build --library=zlibbioc.buildbin-libdir zlibbioc_1.53.0.tar.gz StartedAt: 2025-02-10 08:58:49 -0500 (Mon, 10 Feb 2025) EndedAt: 2025-02-10 08:59:07 -0500 (Mon, 10 Feb 2025) EllapsedTime: 18.3 seconds RetCode: 0 Status: OK PackageFile: zlibbioc_1.53.0.zip PackageFileSize: 369.2 KiB