Package: zlibbioc Version: 1.53.0 Command: chmod a+r zlibbioc -R && E:\biocbuild\bbs-3.21-bioc\R\bin\R.exe CMD build --keep-empty-dirs --no-resave-data zlibbioc StartedAt: 2025-02-12 22:29:24 -0500 (Wed, 12 Feb 2025) EndedAt: 2025-02-12 22:29:47 -0500 (Wed, 12 Feb 2025) EllapsedTime: 22.6 seconds RetCode: 0 Status: OK PackageFile: zlibbioc_1.53.0.tar.gz PackageFileSize: 373.9 KiB