Package: APAlyzer Version: 1.21.0 Command: /home/biocbuild/bbs-3.21-bioc/R/bin/R CMD check --test-dir=longtests --no-stop-on-test-error --no-codoc --no-examples --no-manual --ignore-vignettes --check-subdirs=no APAlyzer_1.21.0.tar.gz StartedAt: 2025-02-08 16:01:06 -0500 (Sat, 08 Feb 2025) EndedAt: 2025-02-08 16:05:06 -0500 (Sat, 08 Feb 2025) EllapsedTime: 240.2 seconds RetCode: 1 Status: ERROR CheckDir: APAlyzer.Rcheck Warnings: NA