Package: DropletUtils Version: 1.27.2 Command: /Library/Frameworks/R.framework/Resources/bin/R CMD check --test-dir=longtests --no-stop-on-test-error --no-codoc --no-examples --no-manual --ignore-vignettes --check-subdirs=no DropletUtils_1.27.2.tar.gz StartedAt: 2025-02-08 16:04:56 -0500 (Sat, 08 Feb 2025) EndedAt: 2025-02-08 16:12:05 -0500 (Sat, 08 Feb 2025) EllapsedTime: 429.1 seconds RetCode: 0 Status: OK CheckDir: DropletUtils.Rcheck Warnings: 0