Package: DropletUtils Version: 1.27.2 Command: E:\biocbuild\bbs-3.21-bioc\R\bin\R.exe CMD check --no-multiarch --test-dir=longtests --no-stop-on-test-error --no-codoc --no-examples --no-manual --ignore-vignettes --check-subdirs=no DropletUtils_1.27.2.tar.gz StartedAt: 2025-02-08 16:10:10 -0500 (Sat, 08 Feb 2025) EndedAt: 2025-02-08 16:35:54 -0500 (Sat, 08 Feb 2025) EllapsedTime: 1543.7 seconds RetCode: 0 Status: OK CheckDir: DropletUtils.Rcheck Warnings: 0