Back to Long Tests report for BioC 3.21

This page was generated on 2025-02-08 23:55 -0500 (Sat, 08 Feb 2025).

HostnameOSArch (*)R versionInstalled pkgs
nebbiolo1Linux (Ubuntu 24.04.1 LTS)x86_64R Under development (unstable) (2025-01-20 r87609) -- "Unsuffered Consequences" 4719
palomino7Windows Server 2022 Datacenterx64R Under development (unstable) (2025-01-21 r87610 ucrt) -- "Unsuffered Consequences" 4480
lconwaymacOS 12.7.1 Montereyx86_64R Under development (unstable) (2025-01-22 r87618) -- "Unsuffered Consequences" 4491
Click on any hostname to see more info about the system (e.g. compilers)      (*) as reported by 'uname -p', except on Windows and Mac OS X

All results for package GenomicFeatures


To the developers/maintainers of the GenomicFeatures package:
- Use the following Renviron settings to reproduce errors and warnings.
- If 'R CMD check' started to fail recently on the Linux builder(s) over a missing dependency, add the missing dependency to 'Suggests:' in your DESCRIPTION file. See Renviron.bioc for more information.

raw results

Package 20/30HostnameOS / ArchCHECK
GenomicFeatures 1.59.1  (landing page)
H. Pagès
Snapshot Date: 2025-02-08 11:09 -0500 (Sat, 08 Feb 2025)
git_url: https://git.bioconductor.org/packages/GenomicFeatures
git_branch: devel
git_last_commit: 2d2ddd6
git_last_commit_date: 2024-11-06 21:45:17 -0500 (Wed, 06 Nov 2024)
nebbiolo1Linux (Ubuntu 24.04.1 LTS) / x86_64  WARNINGS  
palomino7Windows Server 2022 Datacenter / x64  WARNINGS  
lconwaymacOS 12.7.1 Monterey / x86_64  WARNINGS