Package: HDF5Array Version: 1.35.11 Maintainer: Hervé Pagès MaintainerEmail: hpages.on.github at gmail.com git_url: https://git.bioconductor.org/packages/HDF5Array git_branch: devel git_last_commit: 59fa285 git_last_commit_date: 2025-01-31 17:44:32 -0500 (Fri, 31 Jan 2025)