Package: HDF5Array Version: 1.35.12 Command: E:\biocbuild\bbs-3.21-bioc\R\bin\R.exe CMD check --no-multiarch --test-dir=longtests --no-stop-on-test-error --no-codoc --no-examples --no-manual --ignore-vignettes --check-subdirs=no HDF5Array_1.35.12.tar.gz StartedAt: 2025-02-08 16:26:56 -0500 (Sat, 08 Feb 2025) EndedAt: 2025-02-08 16:45:09 -0500 (Sat, 08 Feb 2025) EllapsedTime: 1092.5 seconds RetCode: 0 Status: OK CheckDir: HDF5Array.Rcheck Warnings: 0