Package: TENxIO Version: 1.9.3 Command: /home/biocbuild/bbs-3.21-bioc/R/bin/R CMD check --test-dir=longtests --no-stop-on-test-error --no-codoc --no-examples --no-manual --ignore-vignettes --check-subdirs=no TENxIO_1.9.3.tar.gz StartedAt: 2025-02-08 16:21:37 -0500 (Sat, 08 Feb 2025) EndedAt: 2025-02-08 16:24:10 -0500 (Sat, 08 Feb 2025) EllapsedTime: 153.0 seconds RetCode: 0 Status: OK CheckDir: TENxIO.Rcheck Warnings: 0